BEGIN:VCALENDAR
PRODID:-//eluceo/ical//2.0/EN
VERSION:2.0
CALSCALE:GREGORIAN
BEGIN:VEVENT
UID:e62433778c3bc5d2d5b31dc2dc80fbed
DTSTAMP:20260420T222254Z
SUMMARY:UJA Campaign Launch 2023
DESCRIPTION:UJA Federation of Greater Toronto\nJewish Toronto Calendar\nhtt
 ps://jewishtoronto.com/calendar/uja-campaign-launch-2023\n\nJoin us on Sep
 tember 7 for UJA’s 2023 Campaign Launch—one of our community’s bigge
 st annual gatherings\, and a celebration of Jewish pride featuring the tal
 ents and voices of Jews who inspire us. You won’t want to miss live\, i
 n-person performances by Modi\, the star redefining Jewish comedy and vo
 ted one of NYC&#39\;s top ten comedians\, and Nissim Black\, the African 
 American Hasidic rapper whose inspiring music and journey remind us of wha
 t it means to be proudly Jewish.\n\nBuy your tick...
DTSTART;TZID=America/Toronto:20230907T193000
DTEND;TZID=America/Toronto:20230907T220000
END:VEVENT
END:VCALENDAR
