BEGIN:VCALENDAR
PRODID:-//eluceo/ical//2.0/EN
VERSION:2.0
CALSCALE:GREGORIAN
BEGIN:VEVENT
UID:080e1e5aa7ab27c208bde5607d6c0f1a
DTSTAMP:20260420T084312Z
SUMMARY:UJA Bring them Home | A Rally for the Hostages
DESCRIPTION:UJA Federation of Greater Toronto\nJewish Toronto Calendar\nhtt
 ps://jewishtoronto.com/calendar/uja-bring-them-home-a-rally-for-the-hostag
 es\n\nLocation to be announced.
DTSTART;TZID=America/Toronto:20231101T000000
DTEND;TZID=America/Toronto:20231101T235959
END:VEVENT
END:VCALENDAR
