BEGIN:VCALENDAR
PRODID:-//eluceo/ical//2.0/EN
VERSION:2.0
CALSCALE:GREGORIAN
BEGIN:VEVENT
UID:c2511006fa122e396b4435e8f831c09a
DTSTAMP:20260421T191721Z
SUMMARY:UJA | Book of Life Event
DESCRIPTION:UJA Federation of Greater Toronto\nJewish Toronto Calendar\nhtt
 ps://jewishtoronto.com/calendar/uja-book-of-life-event\n\nDetails to follo
 w. This is a private event.
DTSTART;TZID=America/Toronto:20240411T000000
DTEND;TZID=America/Toronto:20240411T235959
END:VEVENT
END:VCALENDAR
