BEGIN:VCALENDAR
PRODID:-//eluceo/ical//2.0/EN
VERSION:2.0
CALSCALE:GREGORIAN
BEGIN:VEVENT
UID:c726b5dcfd61a68bcb36dc5f9b124655
DTSTAMP:20260420T023254Z
SUMMARY:UJA Annual Meeting
DESCRIPTION:UJA Federation of Greater Toronto\nJewish Toronto Calendar\nhtt
 ps://jewishtoronto.com/calendar/uja-annual-meeting3\n\nUJA&#39\;s Annual G
 eneral Meeting. 
DTSTART;TZID=America/Toronto:20231214T000000
DTEND;TZID=America/Toronto:20231214T235959
END:VEVENT
END:VCALENDAR
