BEGIN:VCALENDAR
PRODID:-//eluceo/ical//2.0/EN
VERSION:2.0
CALSCALE:GREGORIAN
BEGIN:VEVENT
UID:a8d3cd95aca0e2a4f4a30c909b529873
DTSTAMP:20260425T125909Z
SUMMARY:Tribute Event Honouring Dr. Eileen de Villa
DESCRIPTION:UJA Federation of Greater Toronto\nJewish Toronto Calendar\nhtt
 ps://jewishtoronto.com/calendar/tribute-event-honouring-dr-eileen-de-villa
 -1665176745\n\nTribute Event Honouring Dr. Eileen de Villa\, Medical Offic
 er of Health\, City of Toronto in support of the Kosher Meals on Wheels Pr
 ogram at the Bernard Betel Centre.
DTSTART;TZID=America/Toronto:20221124T190000
DTEND;TZID=America/Toronto:20221124T210000
END:VEVENT
END:VCALENDAR
