BEGIN:VCALENDAR
PRODID:-//eluceo/ical//2.0/EN
VERSION:2.0
CALSCALE:GREGORIAN
BEGIN:VEVENT
UID:426ce3dd00de99a06cda6764a454c0a0
DTSTAMP:20260421T024437Z
SUMMARY:Toronto Jewish Comedy Festival Presents: Jews on the Roof
DESCRIPTION:UJA Federation of Greater Toronto\nJewish Toronto Calendar\nhtt
 ps://jewishtoronto.com/calendar/toronto-jewish-comedy-festival-presents-je
 ws-on-the-roof-1691701640\n\n2023 Toronto Jewish Comedy Festival features 
 a hilarious line-up of Jewish comedic talent from all over Canada. When yo
 ur history is full of pogroms and persecution\, what else can you do but l
 augh? Join us for a night of laughs and chutzpah – though we can’t pro
 mise it’ll all be kosher!\n\nHosted by: Howard Glassman \nFeaturing: Kat
 e Davis\, Simon Rakoff\nHeadliner: Eli Lebowicz
DTSTART;TZID=America/Toronto:20230910T200000
DTEND;TZID=America/Toronto:20230910T213000
END:VEVENT
END:VCALENDAR
