BEGIN:VCALENDAR
PRODID:-//eluceo/ical//2.0/EN
VERSION:2.0
CALSCALE:GREGORIAN
BEGIN:VEVENT
UID:3f26608353bd615f05e8b1bcd34e790d
DTSTAMP:20260425T212810Z
SUMMARY:Toronto Jewish Comedy Festival Presents: Jewish Schmucks
DESCRIPTION:UJA Federation of Greater Toronto\nJewish Toronto Calendar\nhtt
 ps://jewishtoronto.com/calendar/toronto-jewish-comedy-festival-presents-je
 wish-schmucks-1664632800\n\nJewish Schmucks is a showcase comedy show feat
 uring Oddball Jewish Comedians\, celebrating an ode to Jewish men’s clum
 sy and foolish lives. Show Features Jon Steinberg\, Headliner Alan Finn\, 
 and Host Jeff Medoff. Don’t be a Schmuck and get your tickets before the
  show sells out.
DTSTART;TZID=America/Toronto:20221117T200000
DTEND;TZID=America/Toronto:20221117T220000
END:VEVENT
END:VCALENDAR
