BEGIN:VCALENDAR
PRODID:-//eluceo/ical//2.0/EN
VERSION:2.0
CALSCALE:GREGORIAN
BEGIN:VEVENT
UID:9cb3f78af2e33b02b90405c598730360
DTSTAMP:20260420T165407Z
SUMMARY:Toronto Holocaust Museum Tour
DESCRIPTION:UJA Federation of Greater Toronto\nJewish Toronto Calendar\nhtt
 ps://jewishtoronto.com/calendar/toronto-holocaust-museum-tour-1699376304\n
 \nWe invite you to discover a journey of resilience and remembrance.  Expe
 rience an unforgettable afternoon at the newly unveiledToronto Holocaust M
 useum!Monday\, November 20th 3:00-4:00pmPurchase your tickets: https://www
 .beitrayim.org/form/toronto-holocaust-museum-nov-20.html
DTSTART;TZID=America/Toronto:20231120T150000
DTEND;TZID=America/Toronto:20231120T160000
END:VEVENT
END:VCALENDAR
