BEGIN:VCALENDAR
PRODID:-//eluceo/ical//2.0/EN
VERSION:2.0
CALSCALE:GREGORIAN
BEGIN:VEVENT
UID:cb7d7052d4ecdf836355a8ddc20d6e0c
DTSTAMP:20260424T102920Z
SUMMARY:Toronto Hebrew Memorial Parks AGM
DESCRIPTION:UJA Federation of Greater Toronto\nJewish Toronto Calendar\nhtt
 ps://jewishtoronto.com/calendar/toronto-hebrew-memorial-parks-agm\n\nDetai
 ls to follow. 
DTSTART;TZID=America/Toronto:20221211T090000
DTEND;TZID=America/Toronto:20221211T110000
END:VEVENT
END:VCALENDAR
