BEGIN:VCALENDAR
PRODID:-//eluceo/ical//2.0/EN
VERSION:2.0
CALSCALE:GREGORIAN
BEGIN:VEVENT
UID:b75d7184b3b34be17991826cd4f1def2
DTSTAMP:20260422T024705Z
SUMMARY:Torah Through the Ages
DESCRIPTION:UJA Federation of Greater Toronto\nJewish Toronto Calendar\nhtt
 ps://jewishtoronto.com/calendar/torah-through-the-ages-1702330745\n\nThurs
 days at 10:00 a.m. (via Zoom)\n\nRabbi Fryer Bodzin leads an in-depth look
  at the book of Deuteronomy/Sefer Devarim with traditional and modern comm
 entaries. Having an Etz Chaimẖumash on hand will be beneficial\; other m
 aterials will be provided. \n\nThis learning series will be provided via Z
 oom. Pre-registration is required to access the Zoom link. To register\, v
 isit https://bit.ly/torah-through-ages-2023.
DTSTART;TZID=America/Toronto:20240201T100000
DTEND;TZID=America/Toronto:20240201T110000
END:VEVENT
END:VCALENDAR
