BEGIN:VCALENDAR
PRODID:-//eluceo/ical//2.0/EN
VERSION:2.0
CALSCALE:GREGORIAN
BEGIN:VEVENT
UID:682950d25317a5e3440f284ff90a1798
DTSTAMP:20260423T033804Z
SUMMARY:Tone and Talk with Mandy Salads
DESCRIPTION:UJA Federation of Greater Toronto\nJewish Toronto Calendar\nhtt
 ps://jewishtoronto.com/calendar/tone-and-talk-with-mandy-salads-1678816420
 \n\nFun-loving sisters and entrepreneurs Mandy and Rebecca Wolfe love noth
 ing more than being creative. Whether it’s healthy-inspired salads\, bra
 nding\, fashion\, or interior design – these girls have it covered!\n\nW
 e will begin with a low-impact workout followed by a lunch of Mandy’s Sa
 lads. Throughout lunch\, Mandy and Rebecca Wolfe will share stories about 
 their life\, work\, and new cookbook\, “More Mandy’s.”\n\nRivki Rabi
 nowitz of Kale in My Teeth will moderate the program.\n\nLeave w...
DTSTART;TZID=America/Toronto:20230326T103000
DTEND;TZID=America/Toronto:20230326T133000
END:VEVENT
END:VCALENDAR
