BEGIN:VCALENDAR
PRODID:-//eluceo/ical//2.0/EN
VERSION:2.0
CALSCALE:GREGORIAN
BEGIN:VEVENT
UID:2728a48e84d989c93316154381c84e4e
DTSTAMP:20260422T171456Z
SUMMARY:TJFF NextGen/Future Stars Event
DESCRIPTION:UJA Federation of Greater Toronto\nJewish Toronto Calendar\nhtt
 ps://jewishtoronto.com/calendar/tjff-nextgenfuture-stars-event\n\nSchmooze
  over cocktails with your peers (29-49 year olds) and find out more on how
  - after 30 years - the Toronto Jewish Film Festival continues opening peo
 ple&#39\;s eyes to the diversity and richness of Jewish culture...even thr
 ough sports!\n\n$18 per person\n\nBuy tickets here: https://tjff.com/fut
 ure-stars/
DTSTART;TZID=America/Toronto:20230516T180000
DTEND;TZID=America/Toronto:20230516T210000
END:VEVENT
END:VCALENDAR
