BEGIN:VCALENDAR
PRODID:-//eluceo/ical//2.0/EN
VERSION:2.0
CALSCALE:GREGORIAN
BEGIN:VEVENT
UID:3e61ae88c983e075a9d494f6e71e42c4
DTSTAMP:20260423T065832Z
SUMMARY:THZ|Mosaic Interfaith: Faith in Action thru Interfaith Co-operation
DESCRIPTION:UJA Federation of Greater Toronto\nJewish Toronto Calendar\nhtt
 ps://jewishtoronto.com/calendar/thzmosaic-interfaith-faith-in-action-thru-
 interfaith-co-operation-1674579282\n\n“Mosaic Interfaith: Past\, Present
  &amp\; Future” | A look at Faith in Action through the lens of Interfai
 th co-operation\nAs a part of World Interfaith Harmony Week we will presen
 t a retrospective on some of Mosaic Interfaith’s more than \n40 years of
  uniting in common purpose. \n\nThe afternoon will feature some highlights
  of the past\, a challenge of the present\; a look at Food Insecurity with
  guest speaker Dr. Mustafa Koç\, professor at Toronto Metropolitan Univer
 sity\, and what future...
DTSTART;TZID=America/Toronto:20230212T143000
DTEND;TZID=America/Toronto:20230212T163000
END:VEVENT
END:VCALENDAR
