BEGIN:VCALENDAR
PRODID:-//eluceo/ical//2.0/EN
VERSION:2.0
CALSCALE:GREGORIAN
BEGIN:VEVENT
UID:c8ffd3ffead0d00be5f5aa4388ba3fb1
DTSTAMP:20260422T075135Z
SUMMARY:THZ |The Situation for Women & Children in Israel during the War
DESCRIPTION:UJA Federation of Greater Toronto\nJewish Toronto Calendar\nhtt
 ps://jewishtoronto.com/calendar/thz-the-situation-for-women--children-in-i
 srael-during-the-war-1707924896\n\nTemple Har Zion | The Situation for Wom
 en and Children in Israel during the War\n\nSunday February 25 at 10am via
  Zoom\n\nSpeaking from her home in Israel\, Anita Friedman\, head of World
  WIZO\, will relate how women and children continue to be affected by the 
 events following October 7. In Israel\, World WIZO operates daycare centre
 s\, youth villages\, specialized schools\, shelters for abused women and c
 hildren\, violence prevention centres and a myriad of other related projec
 ts. Everyone is...
DTSTART;TZID=America/Toronto:20240225T100000
DTEND;TZID=America/Toronto:20240225T110000
END:VEVENT
END:VCALENDAR
