BEGIN:VCALENDAR
PRODID:-//eluceo/ical//2.0/EN
VERSION:2.0
CALSCALE:GREGORIAN
BEGIN:VEVENT
UID:bc405f8352a9f30418a9a14f46a4dc08
DTSTAMP:20260420T071133Z
SUMMARY:Third Annual Merkur Lecture: Activism Across the Ages
DESCRIPTION:UJA Federation of Greater Toronto\nJewish Toronto Calendar\nhtt
 ps://jewishtoronto.com/calendar/third-annual-merkur-lecture-activism-acros
 s-the-ages-1698257019\n\nHosted by Congregation Darchei Noam&#39\;s Social
  Justice Advocacy Committee\, with support from the Merkur family and Rabb
 i Tina Grimberg\, the Merkur Lectures explores themes of Equity\, Civil Li
 berty and Social Justice\n\nThis year’s lecture on "Activism Across the 
 Ages: Intergenerational Perspectives\," will be held on Sunday\, December 
 17 (in person and on Zoom)\, and we are proud to be hosting three speakers
  representing different stages of life.\n\nDebbie Field is a community act
 ivist and natio...
DTSTART;TZID=America/Toronto:20231217T193000
DTEND;TZID=America/Toronto:20231217T213000
END:VEVENT
END:VCALENDAR
