BEGIN:VCALENDAR
PRODID:-//eluceo/ical//2.0/EN
VERSION:2.0
CALSCALE:GREGORIAN
BEGIN:VEVENT
UID:4c897a654ad906126ad516f01e1f251c
DTSTAMP:20260422T201459Z
SUMMARY:Thieves of Dreams Songs of Theresienstadt’s Secret Poetess
DESCRIPTION:UJA Federation of Greater Toronto\nJewish Toronto Calendar\nhtt
 ps://jewishtoronto.com/calendar/thieves-of-dreams-songs-of-theresienstadts
 -secret-poetess-1680197820\n\nJoin us on Sunday\, April 30 on at 7:30 p.m.
  for Lenka Lichtenberg’s Thieves of Dreams: Songs of Theresienstadt&#39\
 ;s Secret Poetess\, at Congregation Darchei Noam.\n\nAward-winning musicia
 n Lenka Lichtenberg grew up unaware of her grandmother&#39\;s talent until
  she discovered a treasure among her late mother’s possessions: two worn
  notebooks filled with poems that her grandmother\, Anna Hana\, wrote betw
 een 1940-1945\, before and during her incarceration in the Theresienstadt 
 concentration camp. Lich...
DTSTART;TZID=America/Toronto:20230430T193000
DTEND;TZID=America/Toronto:20230430T213000
END:VEVENT
END:VCALENDAR
