BEGIN:VCALENDAR
PRODID:-//eluceo/ical//2.0/EN
VERSION:2.0
CALSCALE:GREGORIAN
BEGIN:VEVENT
UID:26bb9599b6dbf99633e1069e6d8995dd
DTSTAMP:20260421T053111Z
SUMMARY:The Toronto Heschel School AWEsome and WONDERful Tot Shabbat Progra
 m
DESCRIPTION:UJA Federation of Greater Toronto\nJewish Toronto Calendar\nhtt
 ps://jewishtoronto.com/calendar/the-toronto-heschel-school-awesome-and-won
 derful-tot-shabbat-programqq\n\n
DTSTART;TZID=America/Toronto:20240524T000000
DTEND;TZID=America/Toronto:20240524T235959
END:VEVENT
END:VCALENDAR
