BEGIN:VCALENDAR
PRODID:-//eluceo/ical//2.0/EN
VERSION:2.0
CALSCALE:GREGORIAN
BEGIN:VEVENT
UID:76f9c5dfd645a78802c5a5c0ad2cdb22
DTSTAMP:20260420T210610Z
SUMMARY:The Toronto Heschel School AWEsome and WONDERful Tot Shabbat Progra
 m
DESCRIPTION:UJA Federation of Greater Toronto\nJewish Toronto Calendar\nhtt
 ps://jewishtoronto.com/calendar/the-toronto-heschel-school-awesome-and-won
 derful-tot-shabbat-programeee\n\n
DTSTART;TZID=America/Toronto:20240607T000000
DTEND;TZID=America/Toronto:20240607T235959
END:VEVENT
END:VCALENDAR
