BEGIN:VCALENDAR
PRODID:-//eluceo/ical//2.0/EN
VERSION:2.0
CALSCALE:GREGORIAN
BEGIN:VEVENT
UID:397c85a8359ab160befb3a1b9a6efdb0
DTSTAMP:20260419T131348Z
SUMMARY:The Toronto Heschel School AWEsome and WONDERful Tot Shabbat Progra
 m
DESCRIPTION:UJA Federation of Greater Toronto\nJewish Toronto Calendar\nhtt
 ps://jewishtoronto.com/calendar/the-toronto-heschel-school-awesome-and-won
 derful-tot-shabbat-programcc\n\n
DTSTART;TZID=America/Toronto:20240531T000000
DTEND;TZID=America/Toronto:20240531T235959
END:VEVENT
END:VCALENDAR
