BEGIN:VCALENDAR
PRODID:-//eluceo/ical//2.0/EN
VERSION:2.0
CALSCALE:GREGORIAN
BEGIN:VEVENT
UID:473c98cac91920f5d3bdcb297f7c0c30
DTSTAMP:20260424T102924Z
SUMMARY:The Survivor Torah Project
DESCRIPTION:UJA Federation of Greater Toronto\nJewish Toronto Calendar\nhtt
 ps://jewishtoronto.com/calendar/the-survivor-torah-project-1694446799\n\nW
 e would like to extend a warm invitation to Holocaust survivorans and thei
 r families from Baycrest and the Community to participate in the Survivor 
 Torah Project\, a collaboration between the Baycrest Foundation and From t
 he Depths.\n\nDate:  Tuesday\, September 19\, 2023\n\nTime:  10 a.m. – 1
 2 p.m. \n                Presenter remarks from 10 a.m. – 10:15 a.m.\n  
       Inscription by attendees from 10:15 – 12 p.m.\n        (Drop-in at
 tendees are welcome to...
DTSTART;TZID=America/Toronto:20230919T100000
DTEND;TZID=America/Toronto:20230919T120000
END:VEVENT
END:VCALENDAR
