BEGIN:VCALENDAR
PRODID:-//eluceo/ical//2.0/EN
VERSION:2.0
CALSCALE:GREGORIAN
BEGIN:VEVENT
UID:9f5459ca332b6fe6e51949007a32ca07
DTSTAMP:20260420T185558Z
SUMMARY:The Song Shul's Family History Shabbat
DESCRIPTION:UJA Federation of Greater Toronto\nJewish Toronto Calendar\nhtt
 ps://jewishtoronto.com/calendar/the-song-shuls-family-history-shabbat-1707
 494820\n\nJoin us to celebrate Shabbat and our Family Trees with music fro
 m the shtetls of Europe and exotic rhythms from Middle Eastern lands. Hono
 ur the places that our ancestors used to call "Home".Cantor Simon and the 
 Toronto Festival Singers present an extraordinary Shabbat morning experien
 ce!9:45 Glorious Hallel for Rosh Chodesh Adar 1 10:00 AM Torah Service\, i
 ncluding Children&#039\;s Torah Parade (those wishing to daven shacharit a
 re invited to join Cantor Simon at 9:15 AM) 10:05 Children&#039\;s Music M
 in...
DTSTART;TZID=America/Toronto:20240210T100000
DTEND;TZID=America/Toronto:20240210T120000
END:VEVENT
END:VCALENDAR
