BEGIN:VCALENDAR
PRODID:-//eluceo/ical//2.0/EN
VERSION:2.0
CALSCALE:GREGORIAN
BEGIN:VEVENT
UID:703bea9cf4a9f5712a54ae06dc6a4846
DTSTAMP:20260420T042510Z
SUMMARY:The Song Shul's Bacharach Shabbat for Shabbat Shirah
DESCRIPTION:UJA Federation of Greater Toronto\nJewish Toronto Calendar\nhtt
 ps://jewishtoronto.com/calendar/the-song-shuls-bacharach-shabbat-for-shabb
 at-shirah-1705674799\n\nIt&#39\;s the first anniversary of Burt Bacharach&
 #39\;s passing. To celebrate Shabbat Shirah (the Sabbath of Song)\, The So
 ng Shul is honouring Bacharach&#39\;s memory with a brand new musical trib
 ute to this legendary Jewish composer.\n\nAnyone can sing prayers to a dif
 ferent melody\, but at The Song Shul\, we bring it to a whole new level. C
 antor Simon Spiro leads\, and the Toronto Festival Singers provide the bed
  of harmonies to your prayers. Whether you sing along\, or just close your
  eyes to be absorbed in...
DTSTART;TZID=America/Toronto:20240127T100000
DTEND;TZID=America/Toronto:20240127T120000
END:VEVENT
END:VCALENDAR
