BEGIN:VCALENDAR
PRODID:-//eluceo/ical//2.0/EN
VERSION:2.0
CALSCALE:GREGORIAN
BEGIN:VEVENT
UID:a7ffe696df85a2560b1e3be14c45b0c5
DTSTAMP:20260424T114508Z
SUMMARY:The Meaning\, Structure and Choreography of Synagogue Services
DESCRIPTION:UJA Federation of Greater Toronto\nJewish Toronto Calendar\nhtt
 ps://jewishtoronto.com/calendar/the-meaning-structure-and-choreography-of-
 synagogue-services-1666643031\n\nIn this course\, ritual director Lorne Ha
 nick will analyze the meaning\, structure and choreography of the weekday\
 , Shabbat and festival services\, looking at the exercise routine of praye
 r in Jewish tradition: what to expect at each type of service\, what to br
 ing on which days\, what to wear\, and the details of when to stand\, bow 
 and other physical gestures\, when to leave\, when not to leave\, and what
  to do when receiving various types of honours.\n\nKnowledge of Hebrew is 
 not required and...
DTSTART;TZID=America/Toronto:20221031T194500
DTEND;TZID=America/Toronto:20221031T210000
END:VEVENT
END:VCALENDAR
