BEGIN:VCALENDAR
PRODID:-//eluceo/ical//2.0/EN
VERSION:2.0
CALSCALE:GREGORIAN
BEGIN:VEVENT
UID:d1e670e5d705f4caa5c09e44d532e09d
DTSTAMP:20260422T163505Z
SUMMARY:The Making and Unmaking of "Russian" Jewry
DESCRIPTION:UJA Federation of Greater Toronto\nJewish Toronto Calendar\nhtt
 ps://jewishtoronto.com/calendar/the-making-and-unmaking-of-russian-jewry-1
 677778711\n\n“Russian” Jewish identity as we know it today is relative
 ly new\, primarily a consequence of the tumultuous twentieth century. It h
 as been challenged and recast since the end of the Soviet Union and\, more
  recently\, by the current war between Russia and Ukraine. How are we now 
 revising our understanding of the creation and evolution of Russian-speaki
 ng and Soviet Jewish identities? How do the cataclysms affecting Jews in t
 he twentieth century\, including pogroms and the Holocaust\, continue t...
DTSTART;TZID=America/Toronto:20230319T190000
DTEND;TZID=America/Toronto:20230319T210000
END:VEVENT
END:VCALENDAR
