BEGIN:VCALENDAR
PRODID:-//eluceo/ical//2.0/EN
VERSION:2.0
CALSCALE:GREGORIAN
BEGIN:VEVENT
UID:74a17c7c4dd6493eb19f9102a33359b3
DTSTAMP:20260423T074902Z
SUMMARY:The Doll Seder
DESCRIPTION:UJA Federation of Greater Toronto\nJewish Toronto Calendar\nhtt
 ps://jewishtoronto.com/calendar/the-doll-seder-1678811592\n\nGrab your fav
 orite doll\, and come to the great Canadian Doll Seder! Craft all the thin
 gs your doll will need for a seder just their size. Then\, you and your do
 ll will go on a great adventure\, going back in time to experience the exo
 dus from Egypt. Then we’ll all come together for a doll-sized seder!\n\n
 This event is for ages 5 and a half through 9 years of age\; all genders i
 nvited. If you don’t have your own 18-inch doll\, such as Newberry\, or 
 Our Generation\, we’ll have one you can adopt...
DTSTART;TZID=America/Toronto:20230402T123000
DTEND;TZID=America/Toronto:20230402T140000
END:VEVENT
END:VCALENDAR
