BEGIN:VCALENDAR
PRODID:-//eluceo/ical//2.0/EN
VERSION:2.0
CALSCALE:GREGORIAN
BEGIN:VEVENT
UID:23e0b1b75138fdeb0939cdc9ee1fc1ed
DTSTAMP:20260423T005249Z
SUMMARY:The Canadian Shaare Zedek Whiskey Tasting Event for Men's Health
DESCRIPTION:UJA Federation of Greater Toronto\nJewish Toronto Calendar\nhtt
 ps://jewishtoronto.com/calendar/the-canadian-shaare-zedek-whiskey-tasting-
 event-for-mens-health-1679422839\n\nWhiskey and Food Pairing Event to supp
 ort Prostate Cancer \, Research and Treatment
DTSTART;TZID=America/Toronto:20230607T190000
DTEND;TZID=America/Toronto:20230607T210000
END:VEVENT
END:VCALENDAR
