BEGIN:VCALENDAR
PRODID:-//eluceo/ical//2.0/EN
VERSION:2.0
CALSCALE:GREGORIAN
BEGIN:VEVENT
UID:8d098652177f48654cb60b7c190e1694
DTSTAMP:20260420T040454Z
SUMMARY:UJA The Big Schmooze
DESCRIPTION:UJA Federation of Greater Toronto\nJewish Toronto Calendar\nhtt
 ps://jewishtoronto.com/calendar/the-big-schmooze\n\nYou’re invited to ne
 twork with professional leaders and fellow Jewish community members at our
  2024 Big Schmooze\, happening on Monday\, February 26. You’ll enjoy fin
 e cocktails\, great conversation\, and a panel discussion with leading ent
 repreneurs and philanthropists on their journeys to success and commitment
  to community:\n\n \n\no   Kiki Delaney\, President\, Delaney Capital 
 Management\n\no   Michael Katchen\, Co-Founder and CEO\, Wealthsimple\n
 \no   John Levy\, Founder and Execut...
DTSTART;TZID=America/Toronto:20240226T183000
DTEND;TZID=America/Toronto:20240226T203000
END:VEVENT
END:VCALENDAR
