BEGIN:VCALENDAR
PRODID:-//eluceo/ical//2.0/EN
VERSION:2.0
CALSCALE:GREGORIAN
BEGIN:VEVENT
UID:a9f66cd89d292ca5481c1e4552054720
DTSTAMP:20260424T152220Z
SUMMARY:Temple Sinai's Young Family Chanukkah Cruise
DESCRIPTION:UJA Federation of Greater Toronto\nJewish Toronto Calendar\nhtt
 ps://jewishtoronto.com/calendar/temple-sinais-young-family-chanukkah-cruis
 e-1670362397\n\nTEMPLE SINAI YOUNG FAMILIES\nChanukkah Cruise\nSunday\, De
 cember 18 at 11.30 a.m.\n\nClimb aboard and celebrate at Temple Sinai with
  our Young Families Chanukkah Cruise!\n\nWe&#39\;ll have lots of fun activ
 ities on deck for everyone. Compete in a "Dreidel Spin off" and "Chanukkah
  Bingo"\, take a ride down our inflatable slides and enjoy live performanc
 es. Lunch will be provided including pizza\, latkes\, sufganiot and more!\
 n\nFor more information and to register please email David at david@temple
 sina...
DTSTART;TZID=America/Toronto:20221218T113000
DTEND;TZID=America/Toronto:20221218T133000
END:VEVENT
END:VCALENDAR
