BEGIN:VCALENDAR
PRODID:-//eluceo/ical//2.0/EN
VERSION:2.0
CALSCALE:GREGORIAN
BEGIN:VEVENT
UID:a28407932f2ca66f6d0c321b1ea8c199
DTSTAMP:20260422T014451Z
SUMMARY:Temple Sinai’s Yom Hazikaron Exhibition and Memorial: Not Just A 
 Number
DESCRIPTION:UJA Federation of Greater Toronto\nJewish Toronto Calendar\nhtt
 ps://jewishtoronto.com/calendar/temple-sinais-yom-hazikaron-exhibition-and
 -memorial-not-just-a-number-1713373045\n\nTemple Sinai’s Yom Hazikaron E
 xhibition and Memorial: Not Just A Number Monday\, May 13 from 7.00 p.m. t
 o 8.00 p.m.Join us for our special Yom HaZikaron “Not Just a Number” e
 xhibition\, shedding light on the personal stories of four fallen soldiers
  who made the ultimate sacrifice while defending their country. Behind eve
 ry number lies a profound story of parents\, families\, and friends\, who 
 continue to bear the weight of that horrific day.Delve into their passions
 \, hobbies\, and unique pers...
DTSTART;TZID=America/Toronto:20240513T190000
DTEND;TZID=America/Toronto:20240513T200000
END:VEVENT
END:VCALENDAR
