BEGIN:VCALENDAR
PRODID:-//eluceo/ical//2.0/EN
VERSION:2.0
CALSCALE:GREGORIAN
BEGIN:VEVENT
UID:8ce08d31aae0d2a698f93e0f914d4706
DTSTAMP:20260423T073055Z
SUMMARY:Temple Sinai’s Men’s Chat Group (online)
DESCRIPTION:UJA Federation of Greater Toronto\nJewish Toronto Calendar\nhtt
 ps://jewishtoronto.com/calendar/temple-sinais-mens-chat-group-online-17008
 50775\n\nTemple Sinai’s Men’s Chat Group (online) Wednesday\, November
  29 from 7.30 p.m. to 9.30 p.m.TOPIC: Standing with IsraelThe war in Israe
 l continues to take its toll on many of us. Join Rabbi Shaner in conversat
 ion on Israel&#039\;s war against Hamas. We&#039\;ll discuss the most rece
 nt events on the ground\, the response from our community at home\, and th
 e response from the Global Reform Movement.Register https://rebrand.ly/mcg
 -swi
DTSTART;TZID=America/Toronto:20231129T193000
DTEND;TZID=America/Toronto:20231129T213000
END:VEVENT
END:VCALENDAR
