BEGIN:VCALENDAR
PRODID:-//eluceo/ical//2.0/EN
VERSION:2.0
CALSCALE:GREGORIAN
BEGIN:VEVENT
UID:cc219ccf18d9cd876164211474ef89da
DTSTAMP:20260425T220812Z
SUMMARY:Temple Sinai’s Family Day Skate with Sinai (In-Person)
DESCRIPTION:UJA Federation of Greater Toronto\nJewish Toronto Calendar\nhtt
 ps://jewishtoronto.com/calendar/temple-sinais-family-day-skate-with-sinai-
 in-person-1675870326\n\nTemple Sinai’s Family Day Skate with Sinai (In-P
 erson) Monday\, February 20 10.15 a.m. to 12.00 p.m.Larry Grossman Forest 
 Hill Memorial Arena 340 Chaplin CrescentSharpen your skates\, bundle up\, 
 and join us for some fun on and off the ice with other Temple Sinai young 
 families at the Larry Grossman Forest Hill Memorial Arena!Warm up with del
 icious hot chocolate and enjoy some treats that will make your Family Day 
 extra special!For more information and to register please visit www.temple
 sinai....
DTSTART;TZID=America/Toronto:20230220T101500
DTEND;TZID=America/Toronto:20230220T120000
END:VEVENT
END:VCALENDAR
