BEGIN:VCALENDAR
PRODID:-//eluceo/ical//2.0/EN
VERSION:2.0
CALSCALE:GREGORIAN
BEGIN:VEVENT
UID:2024c859f5c3a494a5c74bdede93bd9e
DTSTAMP:20260423T164140Z
SUMMARY:Temple Sinai's Community Passover Seder - Virtual
DESCRIPTION:UJA Federation of Greater Toronto\nJewish Toronto Calendar\nhtt
 ps://jewishtoronto.com/calendar/temple-sinais-community-passover-seder---v
 irtual-1679061561\n\nVIRTUAL Community Passover Seder Thursday\, April 6 a
 t 5.30 p.m.Don’t dine alone this Pesach! Rabbi Jordan Shaner and Cantor 
 Charles Osborne will virtually welcome you to a fun and interactive second
 -night seder experience. Help recite the four questions\, find the afikoma
 n and enjoy live music with the Temple Sinai Ensemble Choir.For more infor
 mation and to register\, visit www.templesinai.net or call the Temple Offi
 ce at 416.487.4161.
DTSTART;TZID=America/Toronto:20230406T173000
DTEND;TZID=America/Toronto:20230406T183000
END:VEVENT
END:VCALENDAR
