BEGIN:VCALENDAR
PRODID:-//eluceo/ical//2.0/EN
VERSION:2.0
CALSCALE:GREGORIAN
BEGIN:VEVENT
UID:6f1630e553f06bc01680177685288f5d
DTSTAMP:20260420T185703Z
SUMMARY:Temple Sinai’s Circle Time Shabbat & Big Kid Blessings (In-Person
 )
DESCRIPTION:UJA Federation of Greater Toronto\nJewish Toronto Calendar\nhtt
 ps://jewishtoronto.com/calendar/temple-sinais-circle-time-shabbat--big-kid
 -blessings-in-person-1702652845\n\nTemple Sinai’s Circle Time Shabbat & 
 Big Kid Blessings (In-Person)  Saturday\, January 6 from 10.00 a.m. to 12.
 00 p.m.We invite children aged 0-4 (accompanied by a parent/caregiver) to 
 join us for Circle Time Shabbat\, and older children aged 5-8 for “Big K
 id Blessings”. Program includes arts and crafts\, music class\, story ti
 me with the rabbi\, and special inclusion in the Shabbat morning service\,
  followed by lunch for the whole family.Register here: https://bit.ly/circ
 letime-tsFor more in...
DTSTART;TZID=America/Toronto:20240106T100000
DTEND;TZID=America/Toronto:20240106T120000
END:VEVENT
END:VCALENDAR
