BEGIN:VCALENDAR
PRODID:-//eluceo/ical//2.0/EN
VERSION:2.0
CALSCALE:GREGORIAN
BEGIN:VEVENT
UID:06718653b582979524a31704c35980b5
DTSTAMP:20260423T014657Z
SUMMARY:Temple Sinai’s Canada's Got Cholent! (In-Person & Virtual)
DESCRIPTION:UJA Federation of Greater Toronto\nJewish Toronto Calendar\nhtt
 ps://jewishtoronto.com/calendar/temple-sinais-canadas-got-cholent-in-perso
 n--virtual-1675870788\n\nTemple Sinai’s Canada&#39\;s Got Cholent! (In-P
 erson & Virtual)\nThe Harvey Atkin Young Jewish Performer Competition\nMon
 day\, March 6 at 7.30 p.m.\n\nJoining us will be performers Olivia Daniels
 \, Daniel Greenberg\, Lucas Kalechstein\, Berkley Silverman\, Nico Solarte
  and Jenny Weisz. Each of them has already made their mark on stage\, tele
 vision or cinema. \n\nIn addition\, it’s the Toronto premiere of “Est
 her in the Spotlight” by famed playwright\, Rich Orloff!\n\nHosting will
  be Temple Sinai...
DTSTART;TZID=America/Toronto:20230306T193000
DTEND;TZID=America/Toronto:20230306T220000
END:VEVENT
END:VCALENDAR
