BEGIN:VCALENDAR
PRODID:-//eluceo/ical//2.0/EN
VERSION:2.0
CALSCALE:GREGORIAN
BEGIN:VEVENT
UID:6c1bccffa43a540d0bca34437ce1fdfe
DTSTAMP:20260423T113442Z
SUMMARY:Temple Sinai Young Families Shavuot with Shoresh
DESCRIPTION:UJA Federation of Greater Toronto\nJewish Toronto Calendar\nhtt
 ps://jewishtoronto.com/calendar/temple-sinai-young-families-shavuot-with-s
 horesh-1684260997\n\nTemple Sinai Young Families Shavuot with Shoresh\nSun
 day\, May 28 from 10.30 a.m. to 12.00 p.m.\n\nFamilies are invited to join
  us at Earl Bales Park to celebrate the Shavuot harvest\, explore the park
  and search for the “first fruits” of the year.\n\nWe’ll scavenge fo
 r food sources beneficial to local wildlife\, take part in a forest cleanu
 p\, and plant wild seeds. Together\, we’ll learn about medicinal propert
 ies found in wild plants and share in practices and traditions passed down
  from...
DTSTART;TZID=America/Toronto:20230528T103000
DTEND;TZID=America/Toronto:20230528T123000
END:VEVENT
END:VCALENDAR
