BEGIN:VCALENDAR
PRODID:-//eluceo/ical//2.0/EN
VERSION:2.0
CALSCALE:GREGORIAN
BEGIN:VEVENT
UID:dc7d9314e1bd512e1d2232a6ccd4c862
DTSTAMP:20260423T064347Z
SUMMARY:Temple Sinai YOUNG FAMILIES Shabbat Mishpachah
DESCRIPTION:UJA Federation of Greater Toronto\nJewish Toronto Calendar\nhtt
 ps://jewishtoronto.com/calendar/temple-sinai-young-families-shabbat-mishpa
 chah-1673625284\n\nTemple Sinai YOUNG FAMILIES Shabbat Mishpachah Friday\,
  January 20 from 5.30 p.m. to 7.30 p.m.We are so excited to announce that 
 our much loved Shabbat Misphachah Dinner program is kicking off again on F
 riday\, January 20\, 2023!See\, hear\, smell\, feel and taste the Temple S
 inai Shabbat experience. Join us for an interactive Shabbat-inspired progr
 am with crafts\, singing\, games and stories\, followed by Shabbat dinner 
 with your Temple Sinai family.MEMBERS Adults: $18 | Children: $10 NON-MEMB
 ERS Adu...
DTSTART;TZID=America/Toronto:20230120T173000
DTEND;TZID=America/Toronto:20230120T193000
END:VEVENT
END:VCALENDAR
