BEGIN:VCALENDAR
PRODID:-//eluceo/ical//2.0/EN
VERSION:2.0
CALSCALE:GREGORIAN
BEGIN:VEVENT
UID:2f6cd3d125278669e8e47abda86a3284
DTSTAMP:20260422T220825Z
SUMMARY:Temple Sinai YOUNG FAMILIES Circle Time Shabbat
DESCRIPTION:UJA Federation of Greater Toronto\nJewish Toronto Calendar\nhtt
 ps://jewishtoronto.com/calendar/temple-sinai-young-families-circle-time-sh
 abbat-1671812894\n\nTemple Sinai YOUNG FAMILIES Circle Time Shabbat Saturd
 ay\, March 18 from 10.00 a.m. to 12.00 p.m. Save the date! Saturday\, Apri
 l 1We&#039\;re excited to launch our enriching and nurturing Jewish progra
 m for children ages to 8 years old on Saturday mornings at Temple Sinai on
 ce a month.Program includes arts and crafts\, snack\, Suzuki ECE music cla
 ss\, story time with the Rabbi\, a special inclusion in the Saturday Shabb
 at service on the bimah and lunch afterwards for the whole family. Drop of
 f available...
DTSTART;TZID=America/Toronto:20230318T100000
DTEND;TZID=America/Toronto:20230318T120000
END:VEVENT
END:VCALENDAR
