BEGIN:VCALENDAR
PRODID:-//eluceo/ical//2.0/EN
VERSION:2.0
CALSCALE:GREGORIAN
BEGIN:VEVENT
UID:4a4db1a6fbe2944d2328b66af3de504f
DTSTAMP:20260421T093942Z
SUMMARY:Temple Sinai: Yizkor and Ne’ilah
DESCRIPTION:UJA Federation of Greater Toronto\nJewish Toronto Calendar\nhtt
 ps://jewishtoronto.com/calendar/temple-sinai-yizkor-and-neilah-1690572963\
 n\nTemple Sinai: Yizkor and Ne’ilah Monday\, September 25 5.00 p.m. to 7
 .30 p.m. Powerful innovative meditation on our past and present as we prep
 are to fully enter the New Year.For information on what’s open to the co
 mmunity visit https://templesinai.net/high-holy-days/ or call the Temple O
 ffice at 416.487.4161.
DTSTART;TZID=America/Toronto:20230925T170000
DTEND;TZID=America/Toronto:20230925T193000
END:VEVENT
END:VCALENDAR
