BEGIN:VCALENDAR
PRODID:-//eluceo/ical//2.0/EN
VERSION:2.0
CALSCALE:GREGORIAN
BEGIN:VEVENT
UID:318a677324ff7c3e076dfd6e076ba06c
DTSTAMP:20260421T214238Z
SUMMARY:Temple Sinai: S’LICHOT
DESCRIPTION:UJA Federation of Greater Toronto\nJewish Toronto Calendar\nhtt
 ps://jewishtoronto.com/calendar/temple-sinai-slichot-1690571850\n\nTemple 
 Sinai: S’LICHOT\nSaturday\, September 9\n9.00 p.m.\n\nS’lichot with Ha
 rold Green Jewish Theatre Company: Tell Your Own Story\nA meaningful\, mus
 ical\, theatrical and soulful experience to kick off the High Holy Days. F
 eaturing music from our Ensemble Choir and performances from the Harold Gr
 een Jewish Theatre Company\, with reflection and prayer led by our clergy.
  Taking us on a spiritual journey to elevate the themes of our High Holy D
 ay services\, we’ll explore what it means to pres...
DTSTART;TZID=America/Toronto:20230909T210000
DTEND;TZID=America/Toronto:20230909T230000
END:VEVENT
END:VCALENDAR
