BEGIN:VCALENDAR
PRODID:-//eluceo/ical//2.0/EN
VERSION:2.0
CALSCALE:GREGORIAN
BEGIN:VEVENT
UID:a33ab309bf279dcfccb037bbb431b0c2
DTSTAMP:20260422T201524Z
SUMMARY:Temple Sinai Renaissance Spring Film Festival (In-Person Only)
DESCRIPTION:UJA Federation of Greater Toronto\nJewish Toronto Calendar\nhtt
 ps://jewishtoronto.com/calendar/temple-sinai-renaissance-spring-film-festi
 val-in-person-only-1678726820\n\nTemple Sinai Renaissance Spring Film Fest
 ival (In-Person Only)\nTWO-NIGHT EVENT\nFriday\, April 14 and Saturday\, A
 pril 15\nAfter a three-year hiatus\, we are absolutely thrilled to invite 
 you to our Renaissance Spring Film Festival\n\nAdvance registration for Te
 mple members open until Monday\, March 27.\n\nSaturday\, April 15 at 7.15 
 p.m.\nWine\, cheese\, coffee and desserts\, followed by Havdalah with Cant
 or Charles Osborne at 8.00 p.m.\, film screening and discussion.\n“Our (
 Almost Completely) Tr...
DTSTART;TZID=America/Toronto:20230415T191500
DTEND;TZID=America/Toronto:20230415T213000
END:VEVENT
END:VCALENDAR
