BEGIN:VCALENDAR
PRODID:-//eluceo/ical//2.0/EN
VERSION:2.0
CALSCALE:GREGORIAN
BEGIN:VEVENT
UID:8079f700fe831889728c062ba0d24859
DTSTAMP:20260423T000219Z
SUMMARY:Temple Sinai Renaissance Spring Film Festival
DESCRIPTION:UJA Federation of Greater Toronto\nJewish Toronto Calendar\nhtt
 ps://jewishtoronto.com/calendar/temple-sinai-renaissance-spring-film-festi
 val-1678726451\n\nTemple Sinai Renaissance Spring Film Festival (In-Person
  Only) TWO-NIGHT EVENT Friday\, April 14 and Saturday\, April 15 After a t
 hree-year hiatus\, we are absolutely thrilled to invite you to our Renaiss
 ance Spring Film Festival Advance registration for Temple members open unt
 il Monday\, March 27.Friday\, April 14 at 7.15 p.m. Kabbalat Shabbat Servi
 ce\, followed by our Welcome Oneg\, film screening and discussion with Rab
 bi Michael Dolgin. “The Pianist from Ramallah”COST (PER PERSON): Templ
 e me...
DTSTART;TZID=America/Toronto:20230414T191500
DTEND;TZID=America/Toronto:20230414T213000
END:VEVENT
END:VCALENDAR
