BEGIN:VCALENDAR
PRODID:-//eluceo/ical//2.0/EN
VERSION:2.0
CALSCALE:GREGORIAN
BEGIN:VEVENT
UID:4ad3dc549051c08a7c0c3c4011c2e0b9
DTSTAMP:20260422T075130Z
SUMMARY:Temple Sinai Remote Shalom with Ramot Shalom (In-Person & Online)
DESCRIPTION:UJA Federation of Greater Toronto\nJewish Toronto Calendar\nhtt
 ps://jewishtoronto.com/calendar/temple-sinai-remote-shalom-with-ramot-shal
 om-in-person--online-1710515213\n\nTemple Sinai Remote Shalom with Ramot S
 halom (In-Person & Online)\nFriday\, March 22 from 9.30 a.m. to 10.30 a.m.
 \n\nJoin us for these special combined sessions with our sister congregati
 on in Beer Sheva\, Ramot Shalom (via Zoom)\, for a morning of conversation
 \, Jewish learning with our clergy\, as well as an insider’s update on I
 srael.\n\nRegister https://rebrand.ly/remoteshalom-chevt
DTSTART;TZID=America/Toronto:20240322T093000
DTEND;TZID=America/Toronto:20240322T103000
END:VEVENT
END:VCALENDAR
