BEGIN:VCALENDAR
PRODID:-//eluceo/ical//2.0/EN
VERSION:2.0
CALSCALE:GREGORIAN
BEGIN:VEVENT
UID:67c6fb2ff90100eb6aa43e8341092392
DTSTAMP:20260423T005255Z
SUMMARY:Temple Sinai Preschool Presents Family Fun Day
DESCRIPTION:UJA Federation of Greater Toronto\nJewish Toronto Calendar\nhtt
 ps://jewishtoronto.com/calendar/temple-sinai-preschool-presents-family-fun
 -day-1683050342\n\nTemple Sinai Preschool Presents Family Fun Day Sunday\,
  May 7 from 4.00 p.m. to 6.00 p.m.We invite you to join us and connect wit
 h other young families while your kids are entertained with an incredible 
 bubble show\, music class and dance party. We’ll have pizza for everyone
  as well as a silent auction with some amazing items to bid on!For more in
 formation and to register please visit www.templesinai.net\, call the Temp
 le office at 416.487.4161 or email david@templesinai.net.To donate an item
 /...
DTSTART;TZID=America/Toronto:20230507T160000
DTEND;TZID=America/Toronto:20230507T180000
END:VEVENT
END:VCALENDAR
