BEGIN:VCALENDAR
PRODID:-//eluceo/ical//2.0/EN
VERSION:2.0
CALSCALE:GREGORIAN
BEGIN:VEVENT
UID:477b26f146c7cc85f988d8bed0ef4110
DTSTAMP:20260421T073802Z
SUMMARY:Temple Sinai: NextGen (20’s & 30’s) Happy Hour @ Paupers Pub
DESCRIPTION:UJA Federation of Greater Toronto\nJewish Toronto Calendar\nhtt
 ps://jewishtoronto.com/calendar/temple-sinai-nextgen-20s--30s-happy-hour--
 paupers-pub-1689882196\n\nTemple Sinai: NextGen (20’s & 30’s) Happy Ho
 ur @ Paupers Pub Thursday\, August 24 from 7:00 p.m. to 8.00 p.m. Join Rab
 bi Shaner and fellow young professionals for a festive Summer happy hour! 
 (Paupers Pub\, 539 Bloor St W.)Let&#039\;s share some appetizers and drink
 s on the patio\, and catchup with each other before the summer winds down.
  For more information and to register please visit www.templesinai.net\, e
 mail david@templesinai.net or call the Temple Office at 416.487.4161.
DTSTART;TZID=America/Toronto:20230824T190000
DTEND;TZID=America/Toronto:20230824T200000
END:VEVENT
END:VCALENDAR
