BEGIN:VCALENDAR
PRODID:-//eluceo/ical//2.0/EN
VERSION:2.0
CALSCALE:GREGORIAN
BEGIN:VEVENT
UID:ef4a88778405c00b3b3c92502ed4cf4d
DTSTAMP:20260421T145724Z
SUMMARY:Temple Sinai: NEXTGEN (20s & 30s) - Latkes After Dark IN-PERSON
DESCRIPTION:UJA Federation of Greater Toronto\nJewish Toronto Calendar\nhtt
 ps://jewishtoronto.com/calendar/temple-sinai-nextgen-20s--30s---latkes-aft
 er-dark-in-person-1700238840\n\nTemple Sinai: NEXTGEN (20s & 30s) - Latkes
  After Dark IN-PERSON\nSunday\, December 10 at 8.00 p.m.\n\nPaupers Pub\n5
 39 Bloor St W\, Toronto\, ON M5S 1Y5\n\nCelebrate the Festival of Lights w
 ith latkes\, l’chaims and live music! We’ll gather to share our “oys
 ” and “joys”\, nosh\, sing\, dance\, and light up the night.\n\nRegi
 ster https://rebrand.ly/latkes-ad23
DTSTART;TZID=America/Toronto:20231210T200000
DTEND;TZID=America/Toronto:20231210T220000
END:VEVENT
END:VCALENDAR
