BEGIN:VCALENDAR
PRODID:-//eluceo/ical//2.0/EN
VERSION:2.0
CALSCALE:GREGORIAN
BEGIN:VEVENT
UID:8ba8c23dce4dbcf404db892d07a20ac7
DTSTAMP:20260422T173347Z
SUMMARY:Temple Sinai Family Havdalah
DESCRIPTION:UJA Federation of Greater Toronto\nJewish Toronto Calendar\nhtt
 ps://jewishtoronto.com/calendar/temple-sinai-family-havdalah-1699908892\n\
 nTemple Sinai Family Havdalah Saturday\, December 2 at 4.00 p.m.Temple Sin
 ai families and friends are invited to join us as we transition from Shabb
 at and &#039\;bounce&#039\; (adults & children) together on trampolines in
 to a new week\, at Toronto’s Just Bounce Trampoline Club.With added craf
 ts and games\, followed by a very special havdalah service with Temple Sin
 ai&#039\;s clergy and a pizza dinner for all\, it’s a wonderful way to s
 tart the new week together!Register https://rebrand.ly/tsf-havdalah-dec23.
 ..
DTSTART;TZID=America/Toronto:20231202T160000
DTEND;TZID=America/Toronto:20231202T190000
END:VEVENT
END:VCALENDAR
