BEGIN:VCALENDAR
PRODID:-//eluceo/ical//2.0/EN
VERSION:2.0
CALSCALE:GREGORIAN
BEGIN:VEVENT
UID:130c52c67e72ab6259703bf131a156cd
DTSTAMP:20260421T000636Z
SUMMARY:Temple Sinai Families Circle Time Shabbat (In-Person)
DESCRIPTION:UJA Federation of Greater Toronto\nJewish Toronto Calendar\nhtt
 ps://jewishtoronto.com/calendar/temple-sinai-families-circle-time-shabbat-
 in-person-1697817359\n\nTemple Sinai Families Circle Time Shabbat (In-Pers
 on) Saturday\, December 2 from 10.00 a.m. to 12.00 p.m.We invite children 
 aged 0-4 to join us for Circle Time Shabbat\, and older children aged 5-8 
 for “Big Kid Blessings”. Program includes arts and crafts\, music clas
 s\, story time with the rabbi\, and special inclusion in the Shabbat morni
 ng service\, followed by lunch for the whole family.Children aged 0-4 must
  be accompanied by a parent or caregiver.We look forward to seeing you! ht
 tps://bit...
DTSTART;TZID=America/Toronto:20231202T100000
DTEND;TZID=America/Toronto:20231202T120000
END:VEVENT
END:VCALENDAR
