BEGIN:VCALENDAR
PRODID:-//eluceo/ical//2.0/EN
VERSION:2.0
CALSCALE:GREGORIAN
BEGIN:VEVENT
UID:0314559fad38572ef8e10fa8188be78b
DTSTAMP:20260421T000651Z
SUMMARY:Temple Sinai Families Circle Time Shabbat (In-Person)
DESCRIPTION:UJA Federation of Greater Toronto\nJewish Toronto Calendar\nhtt
 ps://jewishtoronto.com/calendar/temple-sinai-families-circle-time-shabbat-
 in-person-1697817093\n\nTemple Sinai Families Circle Time Shabbat (In-Pers
 on) Saturday\, October 28 & November 11 from 10:00am – 12:00pmWe invite 
 children aged 0-4 to join us for Circle Time Shabbat\, and older children 
 aged 5-8 for “Big Kid Blessings”. Program includes arts and crafts\, m
 usic class\, story time with the rabbi\, and special inclusion in the Shab
 bat morning service\, followed by lunch for the whole family.Children aged
  0-4 must be accompanied by a parent or caregiver.We look forward to seein
 g you! ht...
DTSTART;TZID=America/Toronto:20231028T100000
DTEND;TZID=America/Toronto:20231028T120000
END:VEVENT
END:VCALENDAR
