BEGIN:VCALENDAR
PRODID:-//eluceo/ical//2.0/EN
VERSION:2.0
CALSCALE:GREGORIAN
BEGIN:VEVENT
UID:66d79d220cdda119736e4b9507799392
DTSTAMP:20260423T120108Z
SUMMARY:Temple Sinai Families: Circle Time Shabbat & Big Kid Blessings (In-
 Person)
DESCRIPTION:UJA Federation of Greater Toronto\nJewish Toronto Calendar\nhtt
 ps://jewishtoronto.com/calendar/temple-sinai-families-circle-time-shabbat-
 -big-kid-blessings-in-person-1699908642\n\nTemple Sinai Families: Circle T
 ime Shabbat & Big Kid Blessings (In-Person) Saturday\, December 16 from 10
 .00 a.m. to 12.00 p.m.We invite children aged 0-4 (accompanied by a parent
 /caregiver) to join us for Circle Time Shabbat\, and older children aged 5
 -8 for “Big Kid Blessings”. Program includes arts and crafts\, music c
 lass\, story time with the rabbi\, and special inclusion in the Shabbat mo
 rning service\, followed by lunch for the whole family.Register https://bi
 t.ly/circletime-ts
DTSTART;TZID=America/Toronto:20231216T100000
DTEND;TZID=America/Toronto:20231216T120000
END:VEVENT
END:VCALENDAR
