BEGIN:VCALENDAR
PRODID:-//eluceo/ical//2.0/EN
VERSION:2.0
CALSCALE:GREGORIAN
BEGIN:VEVENT
UID:1cf7adbc9d948eef6b1ba1f0d8bfac53
DTSTAMP:20260423T120104Z
SUMMARY:Temple Sinai Families Chanukkah Carnival Cruise - Come Away to Modi
 ’in
DESCRIPTION:UJA Federation of Greater Toronto\nJewish Toronto Calendar\nhtt
 ps://jewishtoronto.com/calendar/temple-sinai-families-chanukkah-carnival-c
 ruise---come-away-to-modiin-1697817644\n\nTemple Sinai Families Chanukkah 
 Carnival Cruise - Come Away to Modi’in Sunday December 10\, from 10.30 a
 .m. to 12.30 p.m. Remember the Maccabees and bring the family along to cru
 ise with us up the Mediterranean Sea to the city of Modi&#039\;in. Our Cha
 nukkah Cruise Party at Temple Sinai has activities for everyone to enjoy! 
 Enjoy the music of Modi’in with a live concert. Bounce around in the inf
 latables\, get your competitive game on in our Maccabiah Olympic Zone and 
 play-to-win at Chanukkah-them...
DTSTART;TZID=America/Toronto:20231210T103000
DTEND;TZID=America/Toronto:20231210T123000
END:VEVENT
END:VCALENDAR
